BEGIN:VCALENDAR
VERSION:2.0
PRODID:icalendar-ruby
CALSCALE:GREGORIAN
METHOD:PUBLISH
BEGIN:VEVENT
DTSTAMP:20260426T031730Z
UID:6-223596@stphilipsbklyn.org
DTSTART:20261028T160000Z
DTEND:20261028T170000Z
CLASS:PUBLIC
CREATED:20260425T204040
DESCRIPTION:Noonday Prayer &amp\; Meditation will resume on Wednesday\, Jan
 uary 21\, 2026.  Dr. Judith Lovell will lead the sessions. \n 
LAST-MODIFIED:20260425T204040
LOCATION:Meeting ID: 84620213660
SUMMARY:Wednesday\, Noonday Prayer & Meditation
URL;VALUE=URI:https://www.stphilipsbklyn.org/events/wednesday-noonday-praye
 r-meditation--6/2026-10-28
ATTACH;FILENAME=common-prayer.jpeg;FMTTYPE=image/jpeg:https://dq5pwpg1q8ru0
 .cloudfront.net/2022/02/28/15/55/16/bcdffb69-4670-426f-a0e1-5989387d5922/c
 ommon-prayer.jpeg
END:VEVENT
END:VCALENDAR
